BEGIN:VCALENDAR
VERSION:2.0
PRODID:-//Off the Rock - ECPv6.15.20//NONSGML v1.0//EN
CALSCALE:GREGORIAN
METHOD:PUBLISH
X-ORIGINAL-URL:https://offtherockband.com
X-WR-CALDESC:Events for Off the Rock
REFRESH-INTERVAL;VALUE=DURATION:PT1H
X-Robots-Tag:noindex
X-PUBLISHED-TTL:PT1H
BEGIN:VTIMEZONE
TZID:America/Toronto
BEGIN:DAYLIGHT
TZOFFSETFROM:-0500
TZOFFSETTO:-0400
TZNAME:EDT
DTSTART:20240310T070000
END:DAYLIGHT
BEGIN:STANDARD
TZOFFSETFROM:-0400
TZOFFSETTO:-0500
TZNAME:EST
DTSTART:20241103T060000
END:STANDARD
BEGIN:DAYLIGHT
TZOFFSETFROM:-0500
TZOFFSETTO:-0400
TZNAME:EDT
DTSTART:20250309T070000
END:DAYLIGHT
BEGIN:STANDARD
TZOFFSETFROM:-0400
TZOFFSETTO:-0500
TZNAME:EST
DTSTART:20251102T060000
END:STANDARD
BEGIN:DAYLIGHT
TZOFFSETFROM:-0500
TZOFFSETTO:-0400
TZNAME:EDT
DTSTART:20260308T070000
END:DAYLIGHT
BEGIN:STANDARD
TZOFFSETFROM:-0400
TZOFFSETTO:-0500
TZNAME:EST
DTSTART:20261101T060000
END:STANDARD
BEGIN:DAYLIGHT
TZOFFSETFROM:-0500
TZOFFSETTO:-0400
TZNAME:EDT
DTSTART:20270314T070000
END:DAYLIGHT
BEGIN:STANDARD
TZOFFSETFROM:-0400
TZOFFSETTO:-0500
TZNAME:EST
DTSTART:20271107T060000
END:STANDARD
END:VTIMEZONE
BEGIN:VEVENT
DTSTART;TZID=America/Toronto:20250425T193000
DTEND;TZID=America/Toronto:20250425T213000
DTSTAMP:20260419T134830
CREATED:20250101T213656Z
LAST-MODIFIED:20250307T221502Z
UID:340-1745609400-1745616600@offtherockband.com
SUMMARY:Off The Rock-A Great Big Sea Tribute @ The Fergus Grand Theatre
DESCRIPTION:
URL:https://offtherockband.com/event/off-the-rock-a-great-big-sea-tribute-the-fergus-grand-theatre/
LOCATION:The Fergus Grand Theatre\, 244 St Andrew St W\, Fergus\, Ontario\, N1M 1N7\, Canada
END:VEVENT
BEGIN:VEVENT
DTSTART;TZID=America/Toronto:20250426T193000
DTEND;TZID=America/Toronto:20250426T213000
DTSTAMP:20260419T134830
CREATED:20250208T230840Z
LAST-MODIFIED:20250307T220743Z
UID:349-1745695800-1745703000@offtherockband.com
SUMMARY:Off The Rock- A Great Big Sea Tribute Band @ The Wolf Performance Theatre
DESCRIPTION:Wolfe Performance Theatre APril 26th
URL:https://offtherockband.com/event/off-the-rock-a-great-big-sea-tribute-band-the-wolfe-performance-theatre/
LOCATION:Wolfe Performance Theatre\, 251 Dundas St\,\, London\, Ontario\, N6A 6H9\, Canada
END:VEVENT
BEGIN:VEVENT
DTSTART;TZID=America/Toronto:20250509T193000
DTEND;TZID=America/Toronto:20250509T213000
DTSTAMP:20260419T134830
CREATED:20250308T182446Z
LAST-MODIFIED:20250506T140006Z
UID:362-1746819000-1746826200@offtherockband.com
SUMMARY:SOLD OUT-Off The Rock- A Great Big Sea Tribute @ The Newmarket Legion
DESCRIPTION:
URL:https://offtherockband.com/event/off-the-rock-a-great-big-sea-tribute-the-newmarket-legion/
LOCATION:Newmarket Legion\, 707 Srigley St\, Newmarket\, Ontario\, L3Y 1X4\, Canada
END:VEVENT
BEGIN:VEVENT
DTSTART;TZID=America/Toronto:20250604T190000
DTEND;TZID=America/Toronto:20250604T210000
DTSTAMP:20260419T134830
CREATED:20250416T174408Z
LAST-MODIFIED:20250416T174408Z
UID:408-1749063600-1749070800@offtherockband.com
SUMMARY:Off The Rock-A Great Big Sea Tribute @ The Richibucto Legion
DESCRIPTION:
URL:https://offtherockband.com/event/off-the-rock-a-great-big-sea-tribute-the-richibucto-legion/
LOCATION:Stevenson Legion\, Richibucto\, 20 Rue Légion\, Richibucto\, NB\, E4W 4A9\, Canada
END:VEVENT
BEGIN:VEVENT
DTSTART;TZID=America/Toronto:20250605T193000
DTEND;TZID=America/Toronto:20250605T220000
DTSTAMP:20260419T134830
CREATED:20250525T180948Z
LAST-MODIFIED:20250525T180948Z
UID:446-1749151800-1749160800@offtherockband.com
SUMMARY:Off The Rock-A Great Big Sea Tribute @ The Amherst Legion
DESCRIPTION:
URL:https://offtherockband.com/event/off-the-rock-a-great-big-sea-tribute-the-amherst-legion/
LOCATION:Amherst Legion\, 7 Laplanche St\,\, Amherst\, Nova Scotia\, B4H 3G9\, Canada
END:VEVENT
BEGIN:VEVENT
DTSTART;TZID=America/Toronto:20250606T193000
DTEND;TZID=America/Toronto:20250606T193000
DTSTAMP:20260419T134830
CREATED:20241108T020626Z
LAST-MODIFIED:20250307T221415Z
UID:312-1749238200-1749238200@offtherockband.com
SUMMARY:Off The Rock - A Great Big Sea Tribute @ The Scott MacAulay Performing Arts Centre
DESCRIPTION:
URL:https://offtherockband.com/event/off-the-rock-a-great-big-sea-tribute-the-scott-macaulay-performing-arts-centre/
LOCATION:The Scott MacAulay Performing Arts Centre\, 619 Water Street East\, Summerside\, PEI\, C1N 4H8\, Canada
END:VEVENT
BEGIN:VEVENT
DTSTART;TZID=America/Toronto:20250607T193000
DTEND;TZID=America/Toronto:20250607T193000
DTSTAMP:20260419T134830
CREATED:20241121T025840Z
LAST-MODIFIED:20250307T221351Z
UID:325-1749324600-1749324600@offtherockband.com
SUMMARY:Off The Rock - A Great Big Sea Tribute @ The Marigold Theatre
DESCRIPTION:
URL:https://offtherockband.com/event/off-the-rock-a-great-big-sea-tribute-the-marigold-theatre/
LOCATION:Marigold Cultural Centre\, 605 Prince Street\, Truro\, NS\, B2N 1G2
END:VEVENT
BEGIN:VEVENT
DTSTART;TZID=America/Toronto:20250608T200000
DTEND;TZID=America/Toronto:20250608T220000
DTSTAMP:20260419T134830
CREATED:20250422T185248Z
LAST-MODIFIED:20250422T185248Z
UID:411-1749412800-1749420000@offtherockband.com
SUMMARY:Off The Rock- A Great Big Sea Tribute @ Théâtre L.E.R de Dalhousie
DESCRIPTION:
URL:https://offtherockband.com/event/off-the-rock-a-great-big-sea-tribute-theatre-l-e-r-de-dalhousie/
LOCATION:Theatre LER de Dalhousie\, 390 Adelaide Street\, Dalhousie\, New Brunswick\, E8C 1B5
END:VEVENT
BEGIN:VEVENT
DTSTART;TZID=America/Toronto:20250614T193000
DTEND;TZID=America/Toronto:20250614T213000
DTSTAMP:20260419T134830
CREATED:20250406T153242Z
LAST-MODIFIED:20250406T153242Z
UID:377-1749929400-1749936600@offtherockband.com
SUMMARY:Off The Rock-A Great Big Sea Tribute @ The Dundas Legion
DESCRIPTION:
URL:https://offtherockband.com/event/off-the-rock-a-great-big-sea-tribute-the-dundas-legion/
LOCATION:Dundas Legion\, 280 King St W\, Hamilton\, ON\, L9H 1W1\, Canada
END:VEVENT
BEGIN:VEVENT
DTSTART;TZID=America/Toronto:20250620T193000
DTEND;TZID=America/Toronto:20250620T213000
DTSTAMP:20260419T134830
CREATED:20250410T163223Z
LAST-MODIFIED:20250410T163223Z
UID:381-1750447800-1750455000@offtherockband.com
SUMMARY:Off The Rock-A Great Big Sea Tribute @ The Uxbridge Music Hall
DESCRIPTION:
URL:https://offtherockband.com/event/off-the-rock-a-great-big-sea-tribute-the-uxbridge-music-hall/
LOCATION:Uxbridge Music Hall\, 16 Main St S\, Uxbridge\, ON\, L9P 1H1
END:VEVENT
BEGIN:VEVENT
DTSTART;TZID=America/Toronto:20250628T200000
DTEND;TZID=America/Toronto:20250628T220000
DTSTAMP:20260419T134830
CREATED:20250623T181317Z
LAST-MODIFIED:20250623T181317Z
UID:452-1751140800-1751148000@offtherockband.com
SUMMARY:Off The Rock-A Great Big Sea Tribute @ The Gayety Theatre
DESCRIPTION:
URL:https://offtherockband.com/event/off-the-rock-a-great-big-sea-tribute-the-gayety-theatre/
LOCATION:Gayety Theatre\, 161 Hurontario Street\, Collingwood\, Ontario\, Canada
END:VEVENT
BEGIN:VEVENT
DTSTART;TZID=America/Toronto:20250703T193000
DTEND;TZID=America/Toronto:20250703T220000
DTSTAMP:20260419T134830
CREATED:20250510T170809Z
LAST-MODIFIED:20250510T170809Z
UID:429-1751571000-1751580000@offtherockband.com
SUMMARY:Off The Rock-A Great Big Sea Tribute @ Stanley Cup Hall:Bobby Orr Community Centre
DESCRIPTION:
URL:https://offtherockband.com/event/off-the-rock-a-great-big-sea-tribute-stanley-cup-hallbobby-orr-community-centre/
LOCATION:Stanley Cup Hall (Bobby Orr Community Centre)\, 7-17 Mary St\,\, Parry Sound\, Ontario\, P2A 1C9\, Canada
END:VEVENT
BEGIN:VEVENT
DTSTART;TZID=America/Toronto:20250704T193000
DTEND;TZID=America/Toronto:20250704T220000
DTSTAMP:20260419T134830
CREATED:20250508T193355Z
LAST-MODIFIED:20250509T160521Z
UID:424-1751657400-1751666400@offtherockband.com
SUMMARY:Off The Rock-A Great Big Sea Tribute @ La Grande Salle de la Place des Arts du Grand Sudbury
DESCRIPTION:
URL:https://offtherockband.com/event/off-the-rock-a-great-big-sea-tribute-la-grande-salle-de-la-place-des-arts-du-grand-sudbury/
LOCATION:La Grande Salle de la Place des Arts du Grand Sudbury\, 27\, rue Larch\, Sudbury\, Ontario\, P3E 1B7\, Canada
END:VEVENT
BEGIN:VEVENT
DTSTART;TZID=America/Toronto:20250705T190000
DTEND;TZID=America/Toronto:20250705T220000
DTSTAMP:20260419T134830
CREATED:20250510T171842Z
LAST-MODIFIED:20250514T182929Z
UID:433-1751742000-1751752800@offtherockband.com
SUMMARY:Off The Rock-A Great Big Sea Tribute @ The Elks Lodge #25
DESCRIPTION:
URL:https://offtherockband.com/event/off-the-rock-a-great-big-sea-tribute-the-elks-lodge-25/
LOCATION:The Elks Lodge #25\, 325 Elks Ln\, North Bay\, Ontario\, P1B 9T2\, Canada
END:VEVENT
BEGIN:VEVENT
DTSTART;TZID=America/Toronto:20250706T193000
DTEND;TZID=America/Toronto:20250706T213000
DTSTAMP:20260419T134830
CREATED:20250515T163151Z
LAST-MODIFIED:20250515T163151Z
UID:440-1751830200-1751837400@offtherockband.com
SUMMARY:Off The Rock-A Great Big Sea Tribute @ Theatre Muskoka
DESCRIPTION:
URL:https://offtherockband.com/event/off-the-rock-a-great-big-sea-tribute-theatre-muskoka/
LOCATION:Theatre Muskoka\, 100 Clearbrook Trail\, Bracebridge\, Ontario\, P1L 1W9\, Canada
END:VEVENT
BEGIN:VEVENT
DTSTART;TZID=America/Toronto:20251010T200000
DTEND;TZID=America/Toronto:20251010T220000
DTSTAMP:20260419T134830
CREATED:20250320T195644Z
LAST-MODIFIED:20250320T195644Z
UID:371-1760126400-1760133600@offtherockband.com
SUMMARY:Off The Rock-A Great Big Sea Tribute @ Capitol 33
DESCRIPTION:
URL:https://offtherockband.com/event/off-the-rock-a-great-big-sea-tribute-capitol-33/
LOCATION:Capitol 33\, 93 King ST\, Delhi\, Ontario\, N4B 1X7\, Canada
END:VEVENT
BEGIN:VEVENT
DTSTART;TZID=America/Toronto:20251016T080000
DTEND;TZID=America/Toronto:20251016T170000
DTSTAMP:20260419T134830
CREATED:20251016T153117Z
LAST-MODIFIED:20251016T153117Z
UID:503-1760601600-1760634000@offtherockband.com
SUMMARY:Off The Rock-A Great Big Sea Tribute @ Hanover Civic Theatre
DESCRIPTION:
URL:https://offtherockband.com/event/off-the-rock-a-great-big-sea-tribute-hanover-civic-theatre/
LOCATION:Hanover Civic Theatre\, 433 10th Ave\, Hanover\, ON\, N4N 2N9\, Canada
END:VEVENT
BEGIN:VEVENT
DTSTART;TZID=America/Toronto:20251024T190000
DTEND;TZID=America/Toronto:20251024T210000
DTSTAMP:20260419T134830
CREATED:20250828T153605Z
LAST-MODIFIED:20250828T153605Z
UID:465-1761332400-1761339600@offtherockband.com
SUMMARY:Off The Rock-A Great Big Sea Tribute @ The Stained Glass Centre
DESCRIPTION:
URL:https://offtherockband.com/event/off-the-rock-a-great-big-sea-tribute-the-stained-glass-centre/
LOCATION:Stained Glass Centre For Performing Arts\, 34 Church St N\, Whitchurch-Stouffville\, Ontario\, L4A 1E3\, Canada
END:VEVENT
BEGIN:VEVENT
DTSTART;TZID=America/Toronto:20251025T190000
DTEND;TZID=America/Toronto:20251025T210000
DTSTAMP:20260419T134830
CREATED:20250828T162217Z
LAST-MODIFIED:20250828T162217Z
UID:469-1761418800-1761426000@offtherockband.com
SUMMARY:Off The Rock-A Great Big Sea Tribute @ The Blyth Memorial Hall
DESCRIPTION:
URL:https://offtherockband.com/event/off-the-rock-a-great-big-sea-tribute-the-blyth-memorial-hall/
LOCATION:Blyth Memorial Community Hall\, 431 Queen Street\, Blyth\, Ontario\, N0M 1H0\, Canada
END:VEVENT
BEGIN:VEVENT
DTSTART;TZID=America/Toronto:20251107T200000
DTEND;TZID=America/Toronto:20251107T220000
DTSTAMP:20260419T134830
CREATED:20250828T170054Z
LAST-MODIFIED:20250904T164147Z
UID:475-1762545600-1762552800@offtherockband.com
SUMMARY:Off The Rock-A Great Big Sea Tribute @ The Cobourg Lions Club
DESCRIPTION:
URL:https://offtherockband.com/event/off-the-rock-a-great-big-sea-tribute-the-cobourg-lions-club/
LOCATION:Cobourg Lions Club\, 157 Elgin Street East\, Cobourg\, Ontario\, K9A 1A1\, Canada
END:VEVENT
BEGIN:VEVENT
DTSTART;TZID=America/Toronto:20251108T193000
DTEND;TZID=America/Toronto:20251108T213000
DTSTAMP:20260419T134830
CREATED:20250828T165031Z
LAST-MODIFIED:20250828T165031Z
UID:472-1762630200-1762637400@offtherockband.com
SUMMARY:Off The Rock-A Great Big Sea Tribute @ The Schwaben Club
DESCRIPTION:
URL:https://offtherockband.com/event/off-the-rock-a-great-big-sea-tribute-the-schwaben-club-2/
LOCATION:Schwaben Club\, 50 Scheifele Pl\, Breslau\, Ontario\, N0B 1M0\, Canada
END:VEVENT
BEGIN:VEVENT
DTSTART;TZID=America/Toronto:20251109T140000
DTEND;TZID=America/Toronto:20251109T160000
DTSTAMP:20260419T134830
CREATED:20250909T223221Z
LAST-MODIFIED:20250909T223221Z
UID:498-1762696800-1762704000@offtherockband.com
SUMMARY:Off The Rock-A Great Big Sea Tribute @ The Orangeville Opera House
DESCRIPTION:
URL:https://offtherockband.com/event/off-the-rock-a-great-big-sea-tribute-the-orangeville-opera-house/
LOCATION:Orangeville Opera House\, 87 Broadway St\, Orangeville\, Ontario\, lw91k1\, Canada
END:VEVENT
BEGIN:VEVENT
DTSTART;TZID=America/Toronto:20251120T193000
DTEND;TZID=America/Toronto:20251120T213000
DTSTAMP:20260419T134830
CREATED:20250828T183722Z
LAST-MODIFIED:20250828T183722Z
UID:483-1763667000-1763674200@offtherockband.com
SUMMARY:Off The Rock-A Great Big Sea Tribute @ The Orillia Opera House
DESCRIPTION:
URL:https://offtherockband.com/event/off-the-rock-a-great-big-sea-tribute-the-orillia-opera-house/
LOCATION:Orillia Opera House\, 20 Mississaga St W\, Orillia\, ON\, L3V 5G2\, Canada
END:VEVENT
BEGIN:VEVENT
DTSTART;TZID=America/Toronto:20251219T193000
DTEND;TZID=America/Toronto:20251219T213000
DTSTAMP:20260419T134830
CREATED:20250904T182456Z
LAST-MODIFIED:20250904T182456Z
UID:494-1766172600-1766179800@offtherockband.com
SUMMARY:Off The Rock-A Great Big Sea Tribute @ The Omemee Legion
DESCRIPTION:
URL:https://offtherockband.com/event/off-the-rock-a-great-big-sea-tribute-the-omemee-legion/
LOCATION:Omemee Legion\, 46 King St E\, Omemee\, ON\, k0L 2w0\, Canada
END:VEVENT
BEGIN:VEVENT
DTSTART;TZID=America/Toronto:20251220T193000
DTEND;TZID=America/Toronto:20251220T213000
DTSTAMP:20260419T134830
CREATED:20250828T172457Z
LAST-MODIFIED:20251124T144804Z
UID:479-1766259000-1766266200@offtherockband.com
SUMMARY:Off The Rock- A Great Big Sea Tribute @ Town Hall 1873 Theatre
DESCRIPTION:
URL:https://offtherockband.com/event/off-the-rock-a-great-big-sea-tribute-town-hall-1873-theatre/
LOCATION:Town Hall 1873 Theatre\, 302 Queen ST\, Port Perry\, ON\, L9L 1J9\, Canada
END:VEVENT
BEGIN:VEVENT
DTSTART;TZID=America/Toronto:20260117T203000
DTEND;TZID=America/Toronto:20260117T223000
DTSTAMP:20260419T134830
CREATED:20250904T180950Z
LAST-MODIFIED:20250904T180950Z
UID:490-1768681800-1768689000@offtherockband.com
SUMMARY:Off The Rock-A Great Big Sea Tribute @ Spot 1 Brampton
DESCRIPTION:
URL:https://offtherockband.com/event/off-the-rock-a-great-big-sea-tribute-spot-1-brampton/
LOCATION:Spot 1 Brampton\, 289 Rutherford Road South\, Brampton\, ON\, L6W 3R9\, Canada
END:VEVENT
BEGIN:VEVENT
DTSTART;TZID=America/Toronto:20260124T193000
DTEND;TZID=America/Toronto:20260124T220000
DTSTAMP:20260419T134830
CREATED:20250626T202809Z
LAST-MODIFIED:20251124T145033Z
UID:456-1769283000-1769292000@offtherockband.com
SUMMARY:Off The Rock-A Great Big Sea Tribute @ The Zoetic Theatre
DESCRIPTION:
URL:https://offtherockband.com/event/off-the-rock-a-great-big-sea-tribute-the-zoetic-theatre/
LOCATION:The Zoetic Theatre\, 526 Concession St\, Hamilton\, Ontario\, L8V 1A6\, Canada
END:VEVENT
BEGIN:VEVENT
DTSTART;TZID=America/Toronto:20260206T080000
DTEND;TZID=America/Toronto:20260206T170000
DTSTAMP:20260419T134830
CREATED:20260206T193344Z
LAST-MODIFIED:20260206T193344Z
UID:542-1770364800-1770397200@offtherockband.com
SUMMARY:Off The Rock-A Great Big Sea Tribute @ King's Theatre
DESCRIPTION:King’s Theatre — Annapolis Royal\, Nova Scotia\nOff The Rock brings their acclaimed East Coast–inspired show to the stunning King’s Theatre for an unforgettable Friday night of music and celebration. \nWith powerful vocals\, tight harmonies\, and infectious energy\, Off The Rock captures the joy of Great Big Sea while adding their own dynamic flair. This is a show filled with big moments\, heartfelt laughs\, and singalongs that echo long after the lights come up. \nAn ideal night out for couples\, friends\, and music lovers of all ages — come early\, settle in\, and get ready to be swept up in the fun. \n🕖 7:30 PM
URL:https://offtherockband.com/event/off-the-rock-a-great-big-sea-tribute-kings-theatre/
LOCATION:King’s Theatre\, 209 George st\, Annapolis Royal\, NS\, B0S 1A0\, Canada
END:VEVENT
BEGIN:VEVENT
DTSTART;TZID=America/Toronto:20260313T193000
DTEND;TZID=America/Toronto:20260313T220000
DTSTAMP:20260419T134830
CREATED:20260115T202329Z
LAST-MODIFIED:20260115T202329Z
UID:512-1773430200-1773439200@offtherockband.com
SUMMARY:Off The Rock-A Great Big Sea Tribute @ Aurora Town Square
DESCRIPTION:
URL:https://offtherockband.com/event/off-the-rock-a-great-big-sea-tribute-aurora-town-square/
LOCATION:Aurora Town Square\, 50 Victoria St\, Aurora\, ON\, L4G 1R3\, Canada
END:VEVENT
BEGIN:VEVENT
DTSTART;TZID=America/Toronto:20260411T190000
DTEND;TZID=America/Toronto:20260411T213000
DTSTAMP:20260419T134830
CREATED:20260206T180758Z
LAST-MODIFIED:20260206T180758Z
UID:517-1775934000-1775943000@offtherockband.com
SUMMARY:Off The Rock-A Great Big Sea Tribute @ Stirling Festival Theatre
DESCRIPTION:
URL:https://offtherockband.com/event/off-the-rock-a-great-big-sea-tribute-stirling-festival-theatre/
LOCATION:Stirling Festival Theatre\, 41 W Front St\, Stirling\, ON\, K0K3e0\, Canada
END:VEVENT
END:VCALENDAR