BEGIN:VCALENDAR
VERSION:2.0
PRODID:-//Off the Rock - ECPv6.15.20//NONSGML v1.0//EN
CALSCALE:GREGORIAN
METHOD:PUBLISH
X-ORIGINAL-URL:https://offtherockband.com
X-WR-CALDESC:Events for Off the Rock
REFRESH-INTERVAL;VALUE=DURATION:PT1H
X-Robots-Tag:noindex
X-PUBLISHED-TTL:PT1H
BEGIN:VTIMEZONE
TZID:America/Toronto
BEGIN:DAYLIGHT
TZOFFSETFROM:-0500
TZOFFSETTO:-0400
TZNAME:EDT
DTSTART:20250309T070000
END:DAYLIGHT
BEGIN:STANDARD
TZOFFSETFROM:-0400
TZOFFSETTO:-0500
TZNAME:EST
DTSTART:20251102T060000
END:STANDARD
BEGIN:DAYLIGHT
TZOFFSETFROM:-0500
TZOFFSETTO:-0400
TZNAME:EDT
DTSTART:20260308T070000
END:DAYLIGHT
BEGIN:STANDARD
TZOFFSETFROM:-0400
TZOFFSETTO:-0500
TZNAME:EST
DTSTART:20261101T060000
END:STANDARD
BEGIN:DAYLIGHT
TZOFFSETFROM:-0500
TZOFFSETTO:-0400
TZNAME:EDT
DTSTART:20270314T070000
END:DAYLIGHT
BEGIN:STANDARD
TZOFFSETFROM:-0400
TZOFFSETTO:-0500
TZNAME:EST
DTSTART:20271107T060000
END:STANDARD
END:VTIMEZONE
BEGIN:VEVENT
DTSTART;TZID=America/Toronto:20260627T203000
DTEND;TZID=America/Toronto:20260627T230000
DTSTAMP:20260419T225122
CREATED:20260206T195238Z
LAST-MODIFIED:20260206T195238Z
UID:549-1782592200-1782601200@offtherockband.com
SUMMARY:Off The Rock-A Great Big Sea Tribute @ Spot 1 Grill
DESCRIPTION:Spot 1 Grill & Music Hall — Brampton\nSaturday\, June 27 • 8:30 PM \nOff The Rock returns to Brampton with a high-octane East Coast–inspired show that turns a night out into a full-blown kitchen party. Expect foot-stomping rhythms\, rich harmonies\, and crowd-singing favourites that keep the energy soaring from the first note to the last encore. Perfect for groups\, couples\, and anyone ready to sing\, clap\, and celebrate live music up close. \n 
URL:https://offtherockband.com/event/off-the-rock-a-great-big-sea-tribute-spot-1-grill/
LOCATION:Spot 1 Brampton\, 289 Rutherford Road South\, Brampton\, ON\, L6W 3R9\, Canada
END:VEVENT
BEGIN:VEVENT
DTSTART;TZID=America/Toronto:20260718T193000
DTEND;TZID=America/Toronto:20260718T220000
DTSTAMP:20260419T225122
CREATED:20260206T200024Z
LAST-MODIFIED:20260206T200024Z
UID:552-1784403000-1784412000@offtherockband.com
SUMMARY:Off The Rock-A Great Big Sea Tribute @ The Spire
DESCRIPTION:The Spire — Kingston\nSaturday\, July 18 • 7:30 PM \nExperience the magic of East Coast music in the breath-taking setting of The Spire! Off The Rock delivers a soaring\, heartfelt performance inspired by Great Big Sea and traditional folk legends. Expect soaring harmonies\, joyful storytelling\, and an intimate atmosphere that turns every listener into part of the show. Whether you’re a die-hard fan or new to the sound\, this night promises warmth\, energy\, and a whole lot of fun. Mark your calendars — this is Kingston’s must-see event this summer! \n\nTickets will be on sale soon
URL:https://offtherockband.com/event/off-the-rock-a-great-big-sea-tribute-the-spire/
LOCATION:The Spire\, 82 Sydenham St\,\, Kingston\, ON\, K7L 3H4\, Canada
END:VEVENT
BEGIN:VEVENT
DTSTART;TZID=America/Toronto:20260910T200000
DTEND;TZID=America/Toronto:20260910T220000
DTSTAMP:20260419T225122
CREATED:20260206T200534Z
LAST-MODIFIED:20260402T184559Z
UID:555-1789070400-1789077600@offtherockband.com
SUMMARY:Off The Rock-A Great Big Sea Tribute@ The Fergus Grand Theatre
DESCRIPTION:Fergus Grand Theatre — Fergus\nThursday\, September 10 • 8:00 PM \nThe electrifying sound of East Coast folk is coming to Fergus! Join Off The Rock at the Fergus Grand Theatre for a night filled with roaring singalongs\, tight harmonies\, and unstoppable energy. This isn’t just a concert — it’s a community celebration where stories come alive and music connects generations. Perfect for music lovers looking for a night of heartfelt fun\, infectious rhythms\, and all the joy of a true kitchen party. Get your tickets now and be ready to sing your heart out! \nTickets on sale soon
URL:https://offtherockband.com/event/off-the-rock-a-great-big-sea-tribute-the-fergus-grand-theatre-2/
LOCATION:The Fergus Grand Theatre\, 244 St Andrew St W\, Fergus\, Ontario\, N1M 1N7\, Canada
END:VEVENT
BEGIN:VEVENT
DTSTART;TZID=America/Toronto:20260912T193000
DTEND;TZID=America/Toronto:20260912T220000
DTSTAMP:20260419T225122
CREATED:20260206T201515Z
LAST-MODIFIED:20260206T201515Z
UID:557-1789241400-1789250400@offtherockband.com
SUMMARY:Off The Rock-A Great Big Sea Tribute @ Showplace Performance Centre
DESCRIPTION:Showplace Performance Centre — Peterborough\nSaturday\, September 12 • 7:30 PM \nPeterborough\, prepare for a musical celebration like no other! Off The Rock lights up Showplace Performance Centre with their dynamic East Coast show\, packed with beloved anthems\, raucous choruses\, and foot-stomping energy. This is live music that grabs you from the first note\, pulls you into the stories\, and leaves you buzzing long after the last song. Whether you’re a longtime fan or discovering them for the first time\, this is a night you won’t forget. Bring your voice and your friends — it’s party time! \nTickets on sale soon
URL:https://offtherockband.com/event/off-the-rock-a-great-big-sea-tribute-showplace-performance-centre/
LOCATION:Showplace Performance Centre\, 290 George St N\, Peterborough\, Ontario\, K9J 3H2\, Canada
END:VEVENT
BEGIN:VEVENT
DTSTART;TZID=America/Toronto:20260918T200000
DTEND;TZID=America/Toronto:20260918T220000
DTSTAMP:20260419T225122
CREATED:20260402T183612Z
LAST-MODIFIED:20260402T183612Z
UID:573-1789761600-1789768800@offtherockband.com
SUMMARY:Off The Rock-A Great Big Sea Tribute @ Capitol 33
DESCRIPTION:
URL:https://offtherockband.com/event/off-the-rock-a-great-big-sea-tribute-capitol-33-2/
LOCATION:Capitol 33\, 93 King ST\, Delhi\, Ontario\, N4B 1X7\, Canada
END:VEVENT
BEGIN:VEVENT
DTSTART;TZID=America/Toronto:20261030T193000
DTEND;TZID=America/Toronto:20261030T220000
DTSTAMP:20260419T225122
CREATED:20260206T202407Z
LAST-MODIFIED:20260206T202407Z
UID:559-1793388600-1793397600@offtherockband.com
SUMMARY:Off The Rock-A Great Big Sea Tribute @ The Algonquin Theatre
DESCRIPTION:  \nAlgonquin Theatre — Huntsville\nFriday\, October 30 • 7:30 PM \nGet ready\, Huntsville! Off The Rock is bringing their powerful\, heartwarming East Coast show to the Algonquin Theatre for a night that’s equal parts energy and emotion. From driving folk rhythms to soaring harmonies and singalong favourites\, this performance captures the spirit of community and the pure joy of live music. Perfect for a night out with friends or family\, this is your chance to experience a true East Coast kitchen party right in the heart of Huntsville. Don’t miss it! \n 
URL:https://offtherockband.com/event/off-the-rock-a-great-big-sea-tribute-the-algonquin-theatre/
LOCATION:Algonquin Theatre\, 37 main st s\, Huntsville\, ON\, p1h2b8\, Canada
END:VEVENT
END:VCALENDAR