BEGIN:VCALENDAR
VERSION:2.0
PRODID:-//Off the Rock - ECPv6.15.20//NONSGML v1.0//EN
CALSCALE:GREGORIAN
METHOD:PUBLISH
X-WR-CALNAME:Off the Rock
X-ORIGINAL-URL:https://offtherockband.com
X-WR-CALDESC:Events for Off the Rock
REFRESH-INTERVAL;VALUE=DURATION:PT1H
X-Robots-Tag:noindex
X-PUBLISHED-TTL:PT1H
BEGIN:VTIMEZONE
TZID:America/Toronto
BEGIN:DAYLIGHT
TZOFFSETFROM:-0500
TZOFFSETTO:-0400
TZNAME:EDT
DTSTART:20230312T070000
END:DAYLIGHT
BEGIN:STANDARD
TZOFFSETFROM:-0400
TZOFFSETTO:-0500
TZNAME:EST
DTSTART:20231105T060000
END:STANDARD
BEGIN:DAYLIGHT
TZOFFSETFROM:-0500
TZOFFSETTO:-0400
TZNAME:EDT
DTSTART:20240310T070000
END:DAYLIGHT
BEGIN:STANDARD
TZOFFSETFROM:-0400
TZOFFSETTO:-0500
TZNAME:EST
DTSTART:20241103T060000
END:STANDARD
BEGIN:DAYLIGHT
TZOFFSETFROM:-0500
TZOFFSETTO:-0400
TZNAME:EDT
DTSTART:20250309T070000
END:DAYLIGHT
BEGIN:STANDARD
TZOFFSETFROM:-0400
TZOFFSETTO:-0500
TZNAME:EST
DTSTART:20251102T060000
END:STANDARD
BEGIN:DAYLIGHT
TZOFFSETFROM:-0500
TZOFFSETTO:-0400
TZNAME:EDT
DTSTART:20260308T070000
END:DAYLIGHT
BEGIN:STANDARD
TZOFFSETFROM:-0400
TZOFFSETTO:-0500
TZNAME:EST
DTSTART:20261101T060000
END:STANDARD
END:VTIMEZONE
BEGIN:VEVENT
DTSTART;TZID=America/Toronto:20250425T193000
DTEND;TZID=America/Toronto:20250425T213000
DTSTAMP:20260419T184749
CREATED:20250101T213656Z
LAST-MODIFIED:20250307T221502Z
UID:340-1745609400-1745616600@offtherockband.com
SUMMARY:Off The Rock-A Great Big Sea Tribute @ The Fergus Grand Theatre
DESCRIPTION:
URL:https://offtherockband.com/event/off-the-rock-a-great-big-sea-tribute-the-fergus-grand-theatre/
LOCATION:The Fergus Grand Theatre\, 244 St Andrew St W\, Fergus\, Ontario\, N1M 1N7\, Canada
END:VEVENT
BEGIN:VEVENT
DTSTART;TZID=America/Toronto:20250406T140000
DTEND;TZID=America/Toronto:20250406T160000
DTSTAMP:20260419T184749
CREATED:20241104T024619Z
LAST-MODIFIED:20250307T221520Z
UID:300-1743948000-1743955200@offtherockband.com
SUMMARY:Off The Rock- A Tribute To Great Big Sea @ The Roselawn Centre Port Colborne
DESCRIPTION:
URL:https://offtherockband.com/event/off-the-rock-a-tribute-to-great-big-sea-the-lighthouse-theatre-port-colborne/
LOCATION:Lighthouse Theatre- Port Colborne\, 296 Fielden Ave\, Port Colborne\, Ontario\, l3k4t6\, Canada
END:VEVENT
BEGIN:VEVENT
DTSTART;TZID=America/Toronto:20250405T193000
DTEND;TZID=America/Toronto:20250405T213000
DTSTAMP:20260419T184749
CREATED:20250204T003352Z
LAST-MODIFIED:20250204T003352Z
UID:346-1743881400-1743888600@offtherockband.com
SUMMARY:Off The Rock- A Great Big Sea Tribute @ The Schwaben Club
DESCRIPTION:
URL:https://offtherockband.com/event/off-the-rock-a-great-big-sea-tribute-the-schwaben-club/
LOCATION:Schwaben Club\, 50 Scheifele Pl\, Breslau\, Ontario\, N0B 1M0\, Canada
END:VEVENT
BEGIN:VEVENT
DTSTART;TZID=America/Toronto:20250314T193000
DTEND;TZID=America/Toronto:20250314T213000
DTSTAMP:20260419T184749
CREATED:20250101T205908Z
LAST-MODIFIED:20250307T220711Z
UID:335-1741980600-1741987800@offtherockband.com
SUMMARY:Off The Rock-A Great Big Sea Tribute @ New Roads Theatre
DESCRIPTION:
URL:https://offtherockband.com/event/off-the-rock-a-great-big-sea-tribute-new-roads-theatre/
LOCATION:new roads theatre\, 505 Pickering Crescent\, Newmarket\, Ontario\, L3Y 8H1\, Canada
END:VEVENT
BEGIN:VEVENT
DTSTART;TZID=America/Toronto:20250301T200000
DTEND;TZID=America/Toronto:20250301T220000
DTSTAMP:20260419T184749
CREATED:20250101T203615Z
LAST-MODIFIED:20250101T203615Z
UID:331-1740859200-1740866400@offtherockband.com
SUMMARY:Off The Rock- A Great Big Sea Tribute @ Ferrell Hall
DESCRIPTION:
URL:https://offtherockband.com/event/off-the-rock-a-great-big-sea-tribute-ferrell-hall/
LOCATION:ferrell hall\, 186 Gore St\, Perth\, Ontario\, K7H 1K3\, Canada
END:VEVENT
BEGIN:VEVENT
DTSTART;TZID=America/Toronto:20250221T193000
DTEND;TZID=America/Toronto:20250221T193000
DTSTAMP:20260419T184749
CREATED:20241021T171204Z
LAST-MODIFIED:20241021T171204Z
UID:280-1740166200-1740166200@offtherockband.com
SUMMARY:Off the Rock @ Gravenhurst Opera House
DESCRIPTION:
URL:https://offtherockband.com/event/off-the-rock-gravenhurst-opera-house/
LOCATION:Gravenhurst Opera House\, 295 Muskoka South\, Gravenhurst\, Ontario\, P1P 1J1\, Canada
END:VEVENT
BEGIN:VEVENT
DTSTART;TZID=America/Toronto:20250216T140000
DTEND;TZID=America/Toronto:20250216T160000
DTSTAMP:20260419T184749
CREATED:20241104T024220Z
LAST-MODIFIED:20241216T162858Z
UID:294-1739714400-1739721600@offtherockband.com
SUMMARY:Off The Rock- A Tribute to Great Big Sea @ The Lighthouse Theatre in Port Dover
DESCRIPTION:
URL:https://offtherockband.com/event/off-the-rock-a-tribute-to-great-big-sea-port-dover/
LOCATION:Lighthouse Theatre-Port Dover\, 247 Main St\, Port Dover\, Ontario\, n0a1n0\, Canada
END:VEVENT
BEGIN:VEVENT
DTSTART;TZID=America/Toronto:20250213T193000
DTEND;TZID=America/Toronto:20250213T193000
DTSTAMP:20260419T184749
CREATED:20241112T180424Z
LAST-MODIFIED:20241216T162645Z
UID:316-1739475000-1739475000@offtherockband.com
SUMMARY:Off The Rock- A Great Big Sea Tribute @ The Capitol Theatre
DESCRIPTION:
URL:https://offtherockband.com/event/off-the-rock-a-great-big-sea-tribute-the-capitol-theatre/
LOCATION:The Capitol Theatre\, 20 Queen St\, Port Hope\, Ontario\, L1A 2Y7\, Canada
END:VEVENT
BEGIN:VEVENT
DTSTART;TZID=America/Toronto:20250201T193000
DTEND;TZID=America/Toronto:20250201T193000
DTSTAMP:20260419T184749
CREATED:20241021T170539Z
LAST-MODIFIED:20241021T170539Z
UID:277-1738438200-1738438200@offtherockband.com
SUMMARY:Off the Rock @ Blyth Memorial Community Hall
DESCRIPTION:
URL:https://offtherockband.com/event/off-the-rock-blyth-memorial-community-hall/
LOCATION:Blyth Memorial Community Hall\, 431 Queen Street\, Blyth\, Ontario\, N0M 1H0\, Canada
END:VEVENT
BEGIN:VEVENT
DTSTART;TZID=America/Toronto:20241220T193000
DTEND;TZID=America/Toronto:20241220T213000
DTSTAMP:20260419T184749
CREATED:20241101T154614Z
LAST-MODIFIED:20241101T154614Z
UID:287-1734723000-1734730200@offtherockband.com
SUMMARY:Off The Rock @ Aurora Legion
DESCRIPTION:Off The Rock @ Aurora Legion Dec 20th
URL:https://offtherockband.com/event/off-the-rock-aurora-legion/
LOCATION:Aurora Legion\, 105 Industrial Parkway North\, Aurora\, Ontario\, L4G 4C4\, Canada
END:VEVENT
BEGIN:VEVENT
DTSTART;TZID=America/Toronto:20241213T193000
DTEND;TZID=America/Toronto:20241213T193000
DTSTAMP:20260419T184749
CREATED:20241003T172331Z
LAST-MODIFIED:20241021T170607Z
UID:269-1734118200-1734118200@offtherockband.com
SUMMARY:Off the Rock @ Grace Tipling Hall\, Shelburne
DESCRIPTION:
URL:https://offtherockband.com/event/off-the-rock-grace-tipling-hall-shelburne/
LOCATION:Grace Tipling Hall\, 203 Main St E\, Shelburne\, Ontario\, L9V 3K7\, Canada
END:VEVENT
BEGIN:VEVENT
DTSTART;TZID=America/Toronto:20241211T190000
DTEND;TZID=America/Toronto:20241211T210000
DTSTAMP:20260419T184749
CREATED:20241003T172500Z
LAST-MODIFIED:20241003T172500Z
UID:272-1733943600-1733950800@offtherockband.com
SUMMARY:Off the Rock @ Maja Prentice Theatre\, Mississauga
DESCRIPTION:
URL:https://offtherockband.com/event/off-the-rock-maja-prentice-theatre-mississauga/
LOCATION:Maja Prentice Theatre\, 3650 Dixie Rd.\, Mississauga\, Ontario\, L4Y 2W8\, Canada
END:VEVENT
BEGIN:VEVENT
DTSTART;TZID=America/Toronto:20241205T193000
DTEND;TZID=America/Toronto:20241205T213000
DTSTAMP:20260419T184749
CREATED:20241003T172150Z
LAST-MODIFIED:20241003T172150Z
UID:266-1733427000-1733434200@offtherockband.com
SUMMARY:Off the Rock @ Showplace Performance Centre\, Peterborough
DESCRIPTION:
URL:https://offtherockband.com/event/off-the-rock-showplace-performance-centre-peterborough/
LOCATION:Showplace Performance Centre\, 290 George St N\, Peterborough\, Ontario\, K9J 3H2\, Canada
END:VEVENT
BEGIN:VEVENT
DTSTART;TZID=America/Toronto:20241102T193000
DTEND;TZID=America/Toronto:20241102T193000
DTSTAMP:20260419T184749
CREATED:20240819T204135Z
LAST-MODIFIED:20240819T204135Z
UID:256-1730575800-1730575800@offtherockband.com
SUMMARY:Off the Rock @ Schwaben Club\, Breslau (Kitchener)
DESCRIPTION:
URL:https://offtherockband.com/event/off-the-rock-schwaben-club-breslau-kitchener/
LOCATION:Schwaben Club\, 50 Scheifele Pl\, Breslau\, Ontario\, N0B 1M0\, Canada
END:VEVENT
BEGIN:VEVENT
DTSTART;TZID=America/Toronto:20241026T193000
DTEND;TZID=America/Toronto:20241026T193000
DTSTAMP:20260419T184749
CREATED:20240812T181640Z
LAST-MODIFIED:20240819T234739Z
UID:252-1729971000-1729971000@offtherockband.com
SUMMARY:Off the Rock @ Kineto Theatre\, Forest
DESCRIPTION:
URL:https://offtherockband.com/event/off-the-rock-kineto-theatre-forest/
LOCATION:Kineto Theatre\, 24 King St W\, Forest\, Ontario\, N0N 1J0\, Canada
END:VEVENT
BEGIN:VEVENT
DTSTART;TZID=America/Toronto:20241021T190000
DTEND;TZID=America/Toronto:20241021T190000
DTSTAMP:20260419T184749
CREATED:20240904T142354Z
LAST-MODIFIED:20241005T154236Z
UID:260-1729537200-1729537200@offtherockband.com
SUMMARY:Off the Rock @ Centre Communautaire Sainte-Anne\, Fredericton
DESCRIPTION:
URL:https://offtherockband.com/event/off-the-rock-bernard-poirier-theatre-centre-sainte-anne-fredericton/
LOCATION:Théâtre Bernard Poirier\, 715 Priestman Street\, Fredericton\, New Brunswick\, E3B 5W7\, Canada
END:VEVENT
BEGIN:VEVENT
DTSTART;TZID=America/Toronto:20241020T190000
DTEND;TZID=America/Toronto:20241020T190000
DTSTAMP:20260419T184749
CREATED:20240812T181503Z
LAST-MODIFIED:20240812T181503Z
UID:250-1729450800-1729450800@offtherockband.com
SUMMARY:Off the Rock @ Kent Theatre\, Saint John
DESCRIPTION:
URL:https://offtherockband.com/event/off-the-rock-kent-theatre-saint-john/
LOCATION:Kent Theatre\, 24 Coburg St\, Saint John\, NB\, E2L 3J5\, Canada
END:VEVENT
BEGIN:VEVENT
DTSTART;TZID=America/Toronto:20241019T193000
DTEND;TZID=America/Toronto:20241019T193000
DTSTAMP:20260419T184749
CREATED:20240801T221210Z
LAST-MODIFIED:20240801T221210Z
UID:247-1729366200-1729366200@offtherockband.com
SUMMARY:Off the Rock @ Kings Playhouse\, Georgetown
DESCRIPTION:
URL:https://offtherockband.com/event/off-the-rock-kings-playhouse-georgetown/
LOCATION:Kings Playhouse\, 65 Grafton Street\, Georgetown\, PEI\, C0A 1L0
END:VEVENT
BEGIN:VEVENT
DTSTART;TZID=America/Toronto:20241005T193000
DTEND;TZID=America/Toronto:20241005T193000
DTSTAMP:20260419T184749
CREATED:20240801T220801Z
LAST-MODIFIED:20240801T220801Z
UID:244-1728156600-1728156600@offtherockband.com
SUMMARY:Off the Rock @ Old Town Hall\, Waterford
DESCRIPTION:
URL:https://offtherockband.com/event/off-the-rock-old-town-hall-waterford/
LOCATION:Old Town Hall\, 76 Main St S\, Waterford\, Ontario\, N0E 1Y0\, Canada
END:VEVENT
BEGIN:VEVENT
DTSTART;TZID=America/Toronto:20240928T190000
DTEND;TZID=America/Toronto:20240928T193000
DTSTAMP:20260419T184749
CREATED:20240801T220555Z
LAST-MODIFIED:20240928T173230Z
UID:241-1727550000-1727551800@offtherockband.com
SUMMARY:Off the Rock @ Town Hall Theatre\, Port Perry
DESCRIPTION:
URL:https://offtherockband.com/event/off-the-rock-town-hall-theatre-port-perry/
LOCATION:Town Hall Theatre\, 302 Queen St.\, Port Perry\, Ontario\, L9L 1J9\, Canada
END:VEVENT
BEGIN:VEVENT
DTSTART;TZID=America/Toronto:20240907T193000
DTEND;TZID=America/Toronto:20240907T193000
DTSTAMP:20260419T184749
CREATED:20240801T220334Z
LAST-MODIFIED:20240801T220334Z
UID:238-1725737400-1725737400@offtherockband.com
SUMMARY:Off the Rock @ Roxy Theatre\, Owen Sound
DESCRIPTION:
URL:https://offtherockband.com/event/off-the-rock-roxy-theatre-owen-sound/
LOCATION:Roxy Theatre\, 251 9th St E\, Owen Sound\, Ontario\, N4K 1N8\, Canada
END:VEVENT
BEGIN:VEVENT
DTSTART;TZID=America/Toronto:20240727T193000
DTEND;TZID=America/Toronto:20240727T193000
DTSTAMP:20260419T184749
CREATED:20240717T205934Z
LAST-MODIFIED:20240717T210011Z
UID:232-1722108600-1722108600@offtherockband.com
SUMMARY:Off the Rock - Vimy Legion Branch 27\, Halifax
DESCRIPTION:
URL:https://offtherockband.com/event/off-the-rock-vimy-region-27-halifax/
LOCATION:Vimy Legion 27\, 3200 Kempt Rd\, Halifax\, Nova Scotia\, B3K 4X1\, Canada
CATEGORIES:Most of the Coast Tour
END:VEVENT
BEGIN:VEVENT
DTSTART;TZID=America/Toronto:20240726T193000
DTEND;TZID=America/Toronto:20240726T193000
DTSTAMP:20260419T184749
CREATED:20240506T142309Z
LAST-MODIFIED:20240605T145651Z
UID:210-1722022200-1722022200@offtherockband.com
SUMMARY:Off the Rock @ Lunenburg Opera House
DESCRIPTION:
URL:https://offtherockband.com/event/off-the-rock-lunenberg-opera-house/
LOCATION:Lunenburg Opera House\, 290 Lincoln St\, Lunenburg\, NS\, B0J 2C0
CATEGORIES:Most of the Coast Tour
END:VEVENT
BEGIN:VEVENT
DTSTART;TZID=America/Toronto:20240725T193000
DTEND;TZID=America/Toronto:20240725T193000
DTSTAMP:20260419T184749
CREATED:20240506T141925Z
LAST-MODIFIED:20240715T203814Z
UID:207-1721935800-1721935800@offtherockband.com
SUMMARY:Off the Rock @ Marigold Cultural Centre
DESCRIPTION:
URL:https://offtherockband.com/event/off-the-rock-marigold-cultural-centre/
LOCATION:Marigold Cultural Centre\, 605 Prince Street\, Truro\, NS\, B2N 1G2
CATEGORIES:Most of the Coast Tour
END:VEVENT
BEGIN:VEVENT
DTSTART;TZID=America/Toronto:20240724T193000
DTEND;TZID=America/Toronto:20240724T213000
DTSTAMP:20260419T184749
CREATED:20240506T141124Z
LAST-MODIFIED:20240715T203448Z
UID:204-1721849400-1721856600@offtherockband.com
SUMMARY:Off the Rock @ Stevenson Legion\, Richibucto
DESCRIPTION:
URL:https://offtherockband.com/event/off-the-rock-glasgow-square-theatre-new-glasgow-ns/
LOCATION:Stevenson Legion\, Richibucto\, 20 Rue Légion\, Richibucto\, NB\, E4W 4A9\, Canada
CATEGORIES:Most of the Coast Tour
END:VEVENT
BEGIN:VEVENT
DTSTART;TZID=America/Toronto:20240723T193000
DTEND;TZID=America/Toronto:20240723T193000
DTSTAMP:20260419T184749
CREATED:20240503T134903Z
LAST-MODIFIED:20240506T142736Z
UID:201-1721763000-1721763000@offtherockband.com
SUMMARY:Off the Rock @ Kings Playhouse
DESCRIPTION:
URL:https://offtherockband.com/event/off-the-rock-kings-playhouse-georgetown-pei/
LOCATION:Kings Playhouse\, 65 Grafton Street\, Georgetown\, PEI\, C0A 1L0
CATEGORIES:Most of the Coast Tour
END:VEVENT
BEGIN:VEVENT
DTSTART;TZID=America/Toronto:20240721T193000
DTEND;TZID=America/Toronto:20240721T193000
DTSTAMP:20260419T184749
CREATED:20240501T124142Z
LAST-MODIFIED:20240501T124244Z
UID:165-1721590200-1721590200@offtherockband.com
SUMMARY:Off The Rock @ Harbourfront Theatre
DESCRIPTION:
URL:https://offtherockband.com/event/off-the-rock-harbourfront-theatre/
LOCATION:Harbourfront Theatre\, 124 Heather Moyse Dr\, Summerside\, PE\, C1N 5Y8
CATEGORIES:Most of the Coast Tour
END:VEVENT
BEGIN:VEVENT
DTSTART;TZID=America/Toronto:20240720T193000
DTEND;TZID=America/Toronto:20240720T193000
DTSTAMP:20260419T184749
CREATED:20240430T204144Z
LAST-MODIFIED:20240506T143251Z
UID:116-1721503800-1721503800@offtherockband.com
SUMMARY:Off The Rock @  Kent Theatre
DESCRIPTION:
URL:https://offtherockband.com/event/off-the-rock-kent-theatre/
LOCATION:Kent Theatre\, 24 Coburg St\, Saint John\, NB\, E2L 3J5\, Canada
CATEGORIES:Most of the Coast Tour
END:VEVENT
BEGIN:VEVENT
DTSTART;TZID=America/Toronto:20240719T193000
DTEND;TZID=America/Toronto:20240719T193000
DTSTAMP:20260419T184749
CREATED:20240430T204043Z
LAST-MODIFIED:20240430T204157Z
UID:113-1721417400-1721417400@offtherockband.com
SUMMARY:Off The Rock @ Fredericton Playhouse
DESCRIPTION:
URL:https://offtherockband.com/event/fredericton-playhouse/
LOCATION:Fredricton Playhouse\, 686 Queen St\, Fredericton\, NB\, E3B 1C2\, Canada
CATEGORIES:Most of the Coast Tour
END:VEVENT
BEGIN:VEVENT
DTSTART;TZID=America/Toronto:20240622T193000
DTEND;TZID=America/Toronto:20240622T193000
DTSTAMP:20260419T184749
CREATED:20240430T203918Z
LAST-MODIFIED:20240430T203918Z
UID:110-1719084600-1719084600@offtherockband.com
SUMMARY:Off The Rock @ Uxbridge Music Hall
DESCRIPTION:
URL:https://offtherockband.com/event/off-the-rock-uxbridge-music-hall/
LOCATION:Uxbridge Music Hall\, 16 Main St S\, Uxbridge\, ON\, L9P 1H1
END:VEVENT
END:VCALENDAR