BEGIN:VCALENDAR
VERSION:2.0
PRODID:-//Off the Rock - ECPv6.15.20//NONSGML v1.0//EN
CALSCALE:GREGORIAN
METHOD:PUBLISH
X-WR-CALNAME:Off the Rock
X-ORIGINAL-URL:https://offtherockband.com
X-WR-CALDESC:Events for Off the Rock
REFRESH-INTERVAL;VALUE=DURATION:PT1H
X-Robots-Tag:noindex
X-PUBLISHED-TTL:PT1H
BEGIN:VTIMEZONE
TZID:America/Toronto
BEGIN:DAYLIGHT
TZOFFSETFROM:-0500
TZOFFSETTO:-0400
TZNAME:EDT
DTSTART:20240310T070000
END:DAYLIGHT
BEGIN:STANDARD
TZOFFSETFROM:-0400
TZOFFSETTO:-0500
TZNAME:EST
DTSTART:20241103T060000
END:STANDARD
BEGIN:DAYLIGHT
TZOFFSETFROM:-0500
TZOFFSETTO:-0400
TZNAME:EDT
DTSTART:20250309T070000
END:DAYLIGHT
BEGIN:STANDARD
TZOFFSETFROM:-0400
TZOFFSETTO:-0500
TZNAME:EST
DTSTART:20251102T060000
END:STANDARD
BEGIN:DAYLIGHT
TZOFFSETFROM:-0500
TZOFFSETTO:-0400
TZNAME:EDT
DTSTART:20260308T070000
END:DAYLIGHT
BEGIN:STANDARD
TZOFFSETFROM:-0400
TZOFFSETTO:-0500
TZNAME:EST
DTSTART:20261101T060000
END:STANDARD
END:VTIMEZONE
BEGIN:VEVENT
DTSTART;TZID=America/Toronto:20250604T190000
DTEND;TZID=America/Toronto:20250604T210000
DTSTAMP:20260419T105349
CREATED:20250416T174408Z
LAST-MODIFIED:20250416T174408Z
UID:408-1749063600-1749070800@offtherockband.com
SUMMARY:Off The Rock-A Great Big Sea Tribute @ The Richibucto Legion
DESCRIPTION:
URL:https://offtherockband.com/event/off-the-rock-a-great-big-sea-tribute-the-richibucto-legion/
LOCATION:Stevenson Legion\, Richibucto\, 20 Rue Légion\, Richibucto\, NB\, E4W 4A9\, Canada
END:VEVENT
BEGIN:VEVENT
DTSTART;TZID=America/Toronto:20250605T193000
DTEND;TZID=America/Toronto:20250605T220000
DTSTAMP:20260419T105349
CREATED:20250525T180948Z
LAST-MODIFIED:20250525T180948Z
UID:446-1749151800-1749160800@offtherockband.com
SUMMARY:Off The Rock-A Great Big Sea Tribute @ The Amherst Legion
DESCRIPTION:
URL:https://offtherockband.com/event/off-the-rock-a-great-big-sea-tribute-the-amherst-legion/
LOCATION:Amherst Legion\, 7 Laplanche St\,\, Amherst\, Nova Scotia\, B4H 3G9\, Canada
END:VEVENT
BEGIN:VEVENT
DTSTART;TZID=America/Toronto:20250606T193000
DTEND;TZID=America/Toronto:20250606T193000
DTSTAMP:20260419T105349
CREATED:20241108T020626Z
LAST-MODIFIED:20250307T221415Z
UID:312-1749238200-1749238200@offtherockband.com
SUMMARY:Off The Rock - A Great Big Sea Tribute @ The Scott MacAulay Performing Arts Centre
DESCRIPTION:
URL:https://offtherockband.com/event/off-the-rock-a-great-big-sea-tribute-the-scott-macaulay-performing-arts-centre/
LOCATION:The Scott MacAulay Performing Arts Centre\, 619 Water Street East\, Summerside\, PEI\, C1N 4H8\, Canada
END:VEVENT
BEGIN:VEVENT
DTSTART;TZID=America/Toronto:20250607T193000
DTEND;TZID=America/Toronto:20250607T193000
DTSTAMP:20260419T105349
CREATED:20241121T025840Z
LAST-MODIFIED:20250307T221351Z
UID:325-1749324600-1749324600@offtherockband.com
SUMMARY:Off The Rock - A Great Big Sea Tribute @ The Marigold Theatre
DESCRIPTION:
URL:https://offtherockband.com/event/off-the-rock-a-great-big-sea-tribute-the-marigold-theatre/
LOCATION:Marigold Cultural Centre\, 605 Prince Street\, Truro\, NS\, B2N 1G2
END:VEVENT
BEGIN:VEVENT
DTSTART;TZID=America/Toronto:20250608T200000
DTEND;TZID=America/Toronto:20250608T220000
DTSTAMP:20260419T105349
CREATED:20250422T185248Z
LAST-MODIFIED:20250422T185248Z
UID:411-1749412800-1749420000@offtherockband.com
SUMMARY:Off The Rock- A Great Big Sea Tribute @ Théâtre L.E.R de Dalhousie
DESCRIPTION:
URL:https://offtherockband.com/event/off-the-rock-a-great-big-sea-tribute-theatre-l-e-r-de-dalhousie/
LOCATION:Theatre LER de Dalhousie\, 390 Adelaide Street\, Dalhousie\, New Brunswick\, E8C 1B5
END:VEVENT
BEGIN:VEVENT
DTSTART;TZID=America/Toronto:20250614T193000
DTEND;TZID=America/Toronto:20250614T213000
DTSTAMP:20260419T105349
CREATED:20250406T153242Z
LAST-MODIFIED:20250406T153242Z
UID:377-1749929400-1749936600@offtherockband.com
SUMMARY:Off The Rock-A Great Big Sea Tribute @ The Dundas Legion
DESCRIPTION:
URL:https://offtherockband.com/event/off-the-rock-a-great-big-sea-tribute-the-dundas-legion/
LOCATION:Dundas Legion\, 280 King St W\, Hamilton\, ON\, L9H 1W1\, Canada
END:VEVENT
BEGIN:VEVENT
DTSTART;TZID=America/Toronto:20250620T193000
DTEND;TZID=America/Toronto:20250620T213000
DTSTAMP:20260419T105349
CREATED:20250410T163223Z
LAST-MODIFIED:20250410T163223Z
UID:381-1750447800-1750455000@offtherockband.com
SUMMARY:Off The Rock-A Great Big Sea Tribute @ The Uxbridge Music Hall
DESCRIPTION:
URL:https://offtherockband.com/event/off-the-rock-a-great-big-sea-tribute-the-uxbridge-music-hall/
LOCATION:Uxbridge Music Hall\, 16 Main St S\, Uxbridge\, ON\, L9P 1H1
END:VEVENT
BEGIN:VEVENT
DTSTART;TZID=America/Toronto:20250628T200000
DTEND;TZID=America/Toronto:20250628T220000
DTSTAMP:20260419T105349
CREATED:20250623T181317Z
LAST-MODIFIED:20250623T181317Z
UID:452-1751140800-1751148000@offtherockband.com
SUMMARY:Off The Rock-A Great Big Sea Tribute @ The Gayety Theatre
DESCRIPTION:
URL:https://offtherockband.com/event/off-the-rock-a-great-big-sea-tribute-the-gayety-theatre/
LOCATION:Gayety Theatre\, 161 Hurontario Street\, Collingwood\, Ontario\, Canada
END:VEVENT
END:VCALENDAR