BEGIN:VCALENDAR
VERSION:2.0
PRODID:-//Off the Rock - ECPv6.15.20//NONSGML v1.0//EN
CALSCALE:GREGORIAN
METHOD:PUBLISH
X-ORIGINAL-URL:https://offtherockband.com
X-WR-CALDESC:Events for Off the Rock
REFRESH-INTERVAL;VALUE=DURATION:PT1H
X-Robots-Tag:noindex
X-PUBLISHED-TTL:PT1H
BEGIN:VTIMEZONE
TZID:America/Toronto
BEGIN:DAYLIGHT
TZOFFSETFROM:-0500
TZOFFSETTO:-0400
TZNAME:EDT
DTSTART:20250309T070000
END:DAYLIGHT
BEGIN:STANDARD
TZOFFSETFROM:-0400
TZOFFSETTO:-0500
TZNAME:EST
DTSTART:20251102T060000
END:STANDARD
BEGIN:DAYLIGHT
TZOFFSETFROM:-0500
TZOFFSETTO:-0400
TZNAME:EDT
DTSTART:20260308T070000
END:DAYLIGHT
BEGIN:STANDARD
TZOFFSETFROM:-0400
TZOFFSETTO:-0500
TZNAME:EST
DTSTART:20261101T060000
END:STANDARD
BEGIN:DAYLIGHT
TZOFFSETFROM:-0500
TZOFFSETTO:-0400
TZNAME:EDT
DTSTART:20270314T070000
END:DAYLIGHT
BEGIN:STANDARD
TZOFFSETFROM:-0400
TZOFFSETTO:-0500
TZNAME:EST
DTSTART:20271107T060000
END:STANDARD
END:VTIMEZONE
BEGIN:VEVENT
DTSTART;TZID=America/Toronto:20260602T193000
DTEND;TZID=America/Toronto:20260602T220000
DTSTAMP:20260419T105441
CREATED:20260206T183649Z
LAST-MODIFIED:20260206T184525Z
UID:527-1780428600-1780437600@offtherockband.com
SUMMARY:Off The Rock-A Great Big Sea Tribute @ The Richibucto Legion
DESCRIPTION:🔥🎶 RICHIBUCTO — IT STARTS HERE. 🎶🔥 \nOff The Rock officially kicks off their Summer East Coast run where it always feels most like home — the Richibucto Legion — for a night that promises to be loud\, joyful\, and absolutely unforgettable. \nKnown for selling out and turning this room into a full-blown kitchen party\, Off The Rock brings their signature blend of East Coast spirit\, Great Big Sea favourites\, thunderous harmonies\, and foot-stomping energy back to New Brunswick — and they’re starting the tour right here with you. \nThis is not just a concert.This is friends singing shoulder to shoulder.This is stories\, laughter\, and choruses that shake the walls.This is the night summer officially begins. 🍻🎻🔥 \nIf you’ve been before\, you already know — and if you haven’t\, this is the show everyone talks about after. Expect big moments\, surprise laughs\, and that unmistakable feeling when a band and a crowd meet exactly where they belong. \n📅 Tuesday\, June 2⏰ 7:30 PM📍 Richibucto Legion📍 Richibucto\, New Brunswick \n🎟️ This show has a history of selling out — don’t wait. Tickets are on sale at the Legion Come early. Bring your voice. Leave hoarse and happy. \nRichibucto… let’s start this summer the only way we know how. 🔥🍀🎶
URL:https://offtherockband.com/event/off-the-rock-a-great-big-sea-tribute-the-richibucto-legion-2/
LOCATION:Stevenson Legion\, Richibucto\, 20 Rue Légion\, Richibucto\, NB\, E4W 4A9\, Canada
END:VEVENT
BEGIN:VEVENT
DTSTART;TZID=America/Toronto:20260603T193000
DTEND;TZID=America/Toronto:20260603T220000
DTSTAMP:20260419T105441
CREATED:20260206T185025Z
LAST-MODIFIED:20260206T185025Z
UID:532-1780515000-1780524000@offtherockband.com
SUMMARY:Off The Rock-A Great Big Sea Tribute @ The Sacred Heart Downtown
DESCRIPTION:Sacred Heart Downtown Theatre — Sydney\, Nova Scotia\nOff The Rock brings their electrifying East Coast sound to the Sacred Heart Downtown Theatre for a night packed with power\, heart\, and unforgettable singalongs. \nCelebrating the music and spirit of Great Big Sea\, Off The Rock delivers thunderous harmonies\, foot-stomping rhythms\, and a joyful “kitchen party” atmosphere that turns audiences into part of the show. This is a night of stories\, laughter\, and songs that feel right at home in Cape Breton. \nWhether you come with friends\, family\, or ready to make new ones\, expect a high-energy evening that will have the whole room clapping\, singing\, and smiling long after the final note \nTickets on sales soon
URL:https://offtherockband.com/event/off-the-rock-a-great-big-sea-tribute-the-sacred-heart-downtown/
LOCATION:sacred heart downtown\, 217 George ST\, Sydney\, NS\, b1p1j4\, Canada
END:VEVENT
BEGIN:VEVENT
DTSTART;TZID=America/Toronto:20260604T193000
DTEND;TZID=America/Toronto:20260604T220000
DTSTAMP:20260419T105441
CREATED:20260206T190623Z
LAST-MODIFIED:20260206T190623Z
UID:535-1780601400-1780610400@offtherockband.com
SUMMARY:Off The Rock-A Great Big Sea Tribute @ Grace Arts Centre
DESCRIPTION:Thursday\, June 4\nGrace Arts Centre — Tatamagouche\, Nova Scotia\nOff The Rock is thrilled to bring their high-spirited East Coast celebration to the Grace Arts Centre in Tatamagouche. \nKnown for their warmth on stage and their ability to turn any venue into a full-on kitchen party\, Off The Rock blends beloved Great Big Sea favourites with rich harmonies\, humour\, and infectious energy. This show promises music that connects generations and fills the room with pure joy. \nPerfect for folk fans\, live music lovers\, and anyone looking for a night that feels both intimate and electric. \n🕖 7:30 PM
URL:https://offtherockband.com/event/off-the-rock-a-great-big-sea-tribute-grace-arts-centre/
LOCATION:Grace Arts Centre\, 31 Creamery Rd\, Tatamagouche\, NS\, B0K 1V0\, Canada
END:VEVENT
BEGIN:VEVENT
DTSTART;TZID=America/Toronto:20260605T193000
DTEND;TZID=America/Toronto:20260605T220000
DTSTAMP:20260419T105441
CREATED:20260206T191307Z
LAST-MODIFIED:20260219T185847Z
UID:539-1780687800-1780696800@offtherockband.com
SUMMARY:Off The Rock-A Great Big Sea Tribute @ Astor Theatre
DESCRIPTION:Thursday\, June 5\nAstor Theatre — Liverpool\, Nova Scotia\nGet ready\, Liverpool — Off The Rock is bringing the East Coast party to the historic Astor Theatre. \nThis high-energy show celebrates the music\, stories\, and spirit of the East Coast with roaring choruses\, driving rhythms\, and moments that invite the whole crowd to sing along. Off The Rock doesn’t just perform — they connect\, creating an atmosphere that’s lively\, welcoming\, and impossible to resist. \nFrom first note to final encore\, expect a night that feels like a celebration of community\, tradition\, and great live music. \n🕖 7:30 PM
URL:https://offtherockband.com/event/off-the-rock-a-great-big-sea-tribute-astor-theatre/
LOCATION:Astor Theatre\, 219 Main St\, Liverpool\, NS\, B0T 1K0\, Canada
END:VEVENT
BEGIN:VEVENT
DTSTART;TZID=America/Toronto:20260607T193000
DTEND;TZID=America/Toronto:20260607T220000
DTSTAMP:20260419T105441
CREATED:20260206T193940Z
LAST-MODIFIED:20260206T193940Z
UID:546-1780860600-1780869600@offtherockband.com
SUMMARY:Off The Rock-A Great Big Sea Tribute @ Th'YARC Playhouse
DESCRIPTION:Th’Yarc — Yarmouth\, Nova Scotia\nThe East Coast run rolls on as Off The Rock brings the party to Th’Yarc in Yarmouth for a Saturday night celebration you won’t want to miss. \nExpect foot-stomping tunes\, crowd-singing favourites\, and that unmistakable East Coast energy that turns a show into a shared experience. Known for leaving audiences smiling\, singing\, and buzzing with joy\, Off The Rock delivers a night that feels like summer\, community\, and music all rolled into one. \nIf you’re ready to clap\, sing\, and celebrate — this is your night. \n🕖 7:30 PM \nTickets coming soon
URL:https://offtherockband.com/event/off-the-rock-a-great-big-sea-tribute-thyarc-playhouse/
LOCATION:Th’YARC Playhouse\, 76 Parade ST\, Yarmouth\, NS\, B5A 3B4\, Canada
END:VEVENT
BEGIN:VEVENT
DTSTART;TZID=America/Toronto:20260620T183000
DTEND;TZID=America/Toronto:20260620T213000
DTSTAMP:20260419T105441
CREATED:20260311T181800Z
LAST-MODIFIED:20260311T181800Z
UID:567-1781980200-1781991000@offtherockband.com
SUMMARY:Off The Rock-A Great Big Sea Tribute @ White Squirrel Golf Club
DESCRIPTION:
URL:https://offtherockband.com/event/off-the-rock-a-great-big-sea-tribute-white-squirrel-golf-club/
LOCATION:White Squirrel Golf Club\, 72538 Bluewater Highway #21\, Zurich\, ON\, N0M 2T0\, Canada
END:VEVENT
BEGIN:VEVENT
DTSTART;TZID=America/Toronto:20260627T203000
DTEND;TZID=America/Toronto:20260627T230000
DTSTAMP:20260419T105441
CREATED:20260206T195238Z
LAST-MODIFIED:20260206T195238Z
UID:549-1782592200-1782601200@offtherockband.com
SUMMARY:Off The Rock-A Great Big Sea Tribute @ Spot 1 Grill
DESCRIPTION:Spot 1 Grill & Music Hall — Brampton\nSaturday\, June 27 • 8:30 PM \nOff The Rock returns to Brampton with a high-octane East Coast–inspired show that turns a night out into a full-blown kitchen party. Expect foot-stomping rhythms\, rich harmonies\, and crowd-singing favourites that keep the energy soaring from the first note to the last encore. Perfect for groups\, couples\, and anyone ready to sing\, clap\, and celebrate live music up close. \n 
URL:https://offtherockband.com/event/off-the-rock-a-great-big-sea-tribute-spot-1-grill/
LOCATION:Spot 1 Brampton\, 289 Rutherford Road South\, Brampton\, ON\, L6W 3R9\, Canada
END:VEVENT
END:VCALENDAR