BEGIN:VCALENDAR
VERSION:2.0
PRODID:-//Off the Rock - ECPv6.15.20//NONSGML v1.0//EN
CALSCALE:GREGORIAN
METHOD:PUBLISH
X-ORIGINAL-URL:https://offtherockband.com
X-WR-CALDESC:Events for Off the Rock
REFRESH-INTERVAL;VALUE=DURATION:PT1H
X-Robots-Tag:noindex
X-PUBLISHED-TTL:PT1H
BEGIN:VTIMEZONE
TZID:America/Toronto
BEGIN:DAYLIGHT
TZOFFSETFROM:-0500
TZOFFSETTO:-0400
TZNAME:EDT
DTSTART:20250309T070000
END:DAYLIGHT
BEGIN:STANDARD
TZOFFSETFROM:-0400
TZOFFSETTO:-0500
TZNAME:EST
DTSTART:20251102T060000
END:STANDARD
BEGIN:DAYLIGHT
TZOFFSETFROM:-0500
TZOFFSETTO:-0400
TZNAME:EDT
DTSTART:20260308T070000
END:DAYLIGHT
BEGIN:STANDARD
TZOFFSETFROM:-0400
TZOFFSETTO:-0500
TZNAME:EST
DTSTART:20261101T060000
END:STANDARD
BEGIN:DAYLIGHT
TZOFFSETFROM:-0500
TZOFFSETTO:-0400
TZNAME:EDT
DTSTART:20270314T070000
END:DAYLIGHT
BEGIN:STANDARD
TZOFFSETFROM:-0400
TZOFFSETTO:-0500
TZNAME:EST
DTSTART:20271107T060000
END:STANDARD
END:VTIMEZONE
BEGIN:VEVENT
DTSTART;TZID=America/Toronto:20260718T193000
DTEND;TZID=America/Toronto:20260718T220000
DTSTAMP:20260419T122843
CREATED:20260206T200024Z
LAST-MODIFIED:20260206T200024Z
UID:552-1784403000-1784412000@offtherockband.com
SUMMARY:Off The Rock-A Great Big Sea Tribute @ The Spire
DESCRIPTION:The Spire — Kingston\nSaturday\, July 18 • 7:30 PM \nExperience the magic of East Coast music in the breath-taking setting of The Spire! Off The Rock delivers a soaring\, heartfelt performance inspired by Great Big Sea and traditional folk legends. Expect soaring harmonies\, joyful storytelling\, and an intimate atmosphere that turns every listener into part of the show. Whether you’re a die-hard fan or new to the sound\, this night promises warmth\, energy\, and a whole lot of fun. Mark your calendars — this is Kingston’s must-see event this summer! \n\nTickets will be on sale soon
URL:https://offtherockband.com/event/off-the-rock-a-great-big-sea-tribute-the-spire/
LOCATION:The Spire\, 82 Sydenham St\,\, Kingston\, ON\, K7L 3H4\, Canada
END:VEVENT
END:VCALENDAR